BEGIN:VCALENDAR
VERSION:2.0
PRODID:-//jamesplacewi.org - ECPv6.15.20//NONSGML v1.0//EN
CALSCALE:GREGORIAN
METHOD:PUBLISH
X-ORIGINAL-URL:https://jamesplacewi.org
X-WR-CALDESC:Events for jamesplacewi.org
REFRESH-INTERVAL;VALUE=DURATION:PT1H
X-Robots-Tag:noindex
X-PUBLISHED-TTL:PT1H
BEGIN:VTIMEZONE
TZID:UTC
BEGIN:STANDARD
TZOFFSETFROM:+0000
TZOFFSETTO:+0000
TZNAME:UTC
DTSTART:20250101T000000
END:STANDARD
END:VTIMEZONE
BEGIN:VEVENT
DTSTART;TZID=UTC:20260226T103000
DTEND;TZID=UTC:20260226T113000
DTSTAMP:20260419T233858
CREATED:20260126T201423Z
LAST-MODIFIED:20260126T201423Z
UID:3428-1772101800-1772105400@jamesplacewi.org
SUMMARY:James Place Waukesha: Women's Bible Study
DESCRIPTION:Bible study held every Thursday starting at 10:30am. All women welcome!
URL:https://jamesplacewi.org/event/james-place-waukesha-womens-bible-study-4/
LOCATION:James Place – Waukesha\, 129 W. Broadway\, Waukesha\, WI\, 53186\, United States
CATEGORIES:Bible Study,Waukesha
END:VEVENT
BEGIN:VEVENT
DTSTART;TZID=UTC:20260224T091500
DTEND;TZID=UTC:20260224T103000
DTSTAMP:20260419T233858
CREATED:20260126T201139Z
LAST-MODIFIED:20260126T201139Z
UID:3416-1771924500-1771929000@jamesplacewi.org
SUMMARY:James Place Waukesha: Men's Bible Study
DESCRIPTION:Every Tuesday starting at 9:15 am. All men welcome.
URL:https://jamesplacewi.org/event/james-place-waukesha-mens-bible-study-4/
LOCATION:James Place – Waukesha\, 129 W. Broadway\, Waukesha\, WI\, 53186\, United States
CATEGORIES:Bible Study,Waukesha
END:VEVENT
BEGIN:VEVENT
DTSTART;TZID=UTC:20260223T091500
DTEND;TZID=UTC:20260223T100000
DTSTAMP:20260419T233858
CREATED:20260126T201704Z
LAST-MODIFIED:20260126T201704Z
UID:3440-1771838100-1771840800@jamesplacewi.org
SUMMARY:James Place Waukesha: Essential Jesus
DESCRIPTION:Every Monday at 9:15am. Everyone welcome.
URL:https://jamesplacewi.org/event/james-place-waukesha-essential-jesus-4/
LOCATION:James Place – Waukesha\, 129 W. Broadway\, Waukesha\, WI\, 53186\, United States
CATEGORIES:Bible Study,Waukesha
END:VEVENT
BEGIN:VEVENT
DTSTART;TZID=UTC:20260219T103000
DTEND;TZID=UTC:20260219T113000
DTSTAMP:20260419T233858
CREATED:20260126T201358Z
LAST-MODIFIED:20260126T201358Z
UID:3425-1771497000-1771500600@jamesplacewi.org
SUMMARY:James Place Waukesha: Women's Bible Study
DESCRIPTION:Bible study held every Thursday starting at 10:30am. All women welcome!
URL:https://jamesplacewi.org/event/james-place-waukesha-womens-bible-study-3/
LOCATION:James Place – Waukesha\, 129 W. Broadway\, Waukesha\, WI\, 53186\, United States
CATEGORIES:Bible Study,Waukesha
END:VEVENT
BEGIN:VEVENT
DTSTART;TZID=UTC:20260217T091500
DTEND;TZID=UTC:20260217T103000
DTSTAMP:20260419T233858
CREATED:20260126T201106Z
LAST-MODIFIED:20260126T201106Z
UID:3413-1771319700-1771324200@jamesplacewi.org
SUMMARY:James Place Waukesha: Men's Bible Study
DESCRIPTION:Every Tuesday starting at 9:15 am. All men welcome.
URL:https://jamesplacewi.org/event/james-place-waukesha-mens-bible-study-3/
LOCATION:James Place – Waukesha\, 129 W. Broadway\, Waukesha\, WI\, 53186\, United States
CATEGORIES:Bible Study,Waukesha
END:VEVENT
BEGIN:VEVENT
DTSTART;TZID=UTC:20260216T091500
DTEND;TZID=UTC:20260216T100000
DTSTAMP:20260419T233858
CREATED:20260126T201639Z
LAST-MODIFIED:20260126T201639Z
UID:3437-1771233300-1771236000@jamesplacewi.org
SUMMARY:James Place Waukesha: Essential Jesus
DESCRIPTION:Every Monday at 9:15am. Everyone welcome.
URL:https://jamesplacewi.org/event/james-place-waukesha-essential-jesus-3/
LOCATION:James Place – Waukesha\, 129 W. Broadway\, Waukesha\, WI\, 53186\, United States
CATEGORIES:Bible Study,Waukesha
END:VEVENT
BEGIN:VEVENT
DTSTART;TZID=UTC:20260212T103000
DTEND;TZID=UTC:20260212T113000
DTSTAMP:20260419T233858
CREATED:20260126T201334Z
LAST-MODIFIED:20260126T201334Z
UID:3422-1770892200-1770895800@jamesplacewi.org
SUMMARY:James Place Waukesha: Women's Bible Study
DESCRIPTION:Bible study held every Thursday starting at 10:30am. All women welcome!
URL:https://jamesplacewi.org/event/james-place-waukesha-womens-bible-study-2/
LOCATION:James Place – Waukesha\, 129 W. Broadway\, Waukesha\, WI\, 53186\, United States
CATEGORIES:Bible Study,Waukesha
END:VEVENT
BEGIN:VEVENT
DTSTART;TZID=UTC:20260210T091500
DTEND;TZID=UTC:20260210T103000
DTSTAMP:20260419T233858
CREATED:20260126T201041Z
LAST-MODIFIED:20260126T201041Z
UID:3410-1770714900-1770719400@jamesplacewi.org
SUMMARY:James Place Waukesha: Men's Bible Study
DESCRIPTION:Every Tuesday starting at 9:15 am. All men welcome.
URL:https://jamesplacewi.org/event/james-place-waukesha-mens-bible-study-2/
LOCATION:James Place – Waukesha\, 129 W. Broadway\, Waukesha\, WI\, 53186\, United States
CATEGORIES:Bible Study,Waukesha
END:VEVENT
BEGIN:VEVENT
DTSTART;TZID=UTC:20260209T091500
DTEND;TZID=UTC:20260209T100000
DTSTAMP:20260419T233858
CREATED:20260126T201613Z
LAST-MODIFIED:20260126T201613Z
UID:3434-1770628500-1770631200@jamesplacewi.org
SUMMARY:James Place Waukesha: Essential Jesus
DESCRIPTION:Every Monday at 9:15am. Everyone welcome.
URL:https://jamesplacewi.org/event/james-place-waukesha-essential-jesus-2/
LOCATION:James Place – Waukesha\, 129 W. Broadway\, Waukesha\, WI\, 53186\, United States
CATEGORIES:Bible Study,Waukesha
END:VEVENT
BEGIN:VEVENT
DTSTART;TZID=UTC:20260205T103000
DTEND;TZID=UTC:20260205T113000
DTSTAMP:20260419T233858
CREATED:20260126T201300Z
LAST-MODIFIED:20260126T201300Z
UID:3419-1770287400-1770291000@jamesplacewi.org
SUMMARY:James Place Waukesha: Women's Bible Study
DESCRIPTION:Bible study held every Thursday starting at 10:30am. All women welcome!
URL:https://jamesplacewi.org/event/james-place-waukesha-womens-bible-study/
LOCATION:James Place – Waukesha\, 129 W. Broadway\, Waukesha\, WI\, 53186\, United States
CATEGORIES:Bible Study,Waukesha
END:VEVENT
BEGIN:VEVENT
DTSTART;TZID=UTC:20260203T091500
DTEND;TZID=UTC:20260203T103000
DTSTAMP:20260419T233858
CREATED:20260126T201004Z
LAST-MODIFIED:20260126T201004Z
UID:3407-1770110100-1770114600@jamesplacewi.org
SUMMARY:James Place Waukesha: Men's Bible Study
DESCRIPTION:Every Tuesday starting at 9:15 am. All men welcome.
URL:https://jamesplacewi.org/event/james-place-waukesha-mens-bible-study/
LOCATION:James Place – Waukesha\, 129 W. Broadway\, Waukesha\, WI\, 53186\, United States
CATEGORIES:Bible Study,Waukesha
END:VEVENT
BEGIN:VEVENT
DTSTART;TZID=UTC:20260202T091500
DTEND;TZID=UTC:20260202T100000
DTSTAMP:20260419T233858
CREATED:20260126T201538Z
LAST-MODIFIED:20260126T201538Z
UID:3431-1770023700-1770026400@jamesplacewi.org
SUMMARY:James Place Waukesha: Essential Jesus
DESCRIPTION:Every Monday at 9:15am. Everyone welcome.
URL:https://jamesplacewi.org/event/james-place-waukesha-essential-jesus/
LOCATION:James Place – Waukesha\, 129 W. Broadway\, Waukesha\, WI\, 53186\, United States
CATEGORIES:Bible Study,Waukesha
END:VEVENT
END:VCALENDAR