BEGIN:VCALENDAR
VERSION:2.0
PRODID:-//jamesplacewi.org - ECPv6.15.20//NONSGML v1.0//EN
CALSCALE:GREGORIAN
METHOD:PUBLISH
X-ORIGINAL-URL:https://jamesplacewi.org
X-WR-CALDESC:Events for jamesplacewi.org
REFRESH-INTERVAL;VALUE=DURATION:PT1H
X-Robots-Tag:noindex
X-PUBLISHED-TTL:PT1H
BEGIN:VTIMEZONE
TZID:UTC
BEGIN:STANDARD
TZOFFSETFROM:+0000
TZOFFSETTO:+0000
TZNAME:UTC
DTSTART:20250101T000000
END:STANDARD
END:VTIMEZONE
BEGIN:VEVENT
DTSTART;TZID=UTC:20260507T103000
DTEND;TZID=UTC:20260507T113000
DTSTAMP:20260423T221646
CREATED:20260420T162505Z
LAST-MODIFIED:20260420T162505Z
UID:3505-1778149800-1778153400@jamesplacewi.org
SUMMARY:James Place Waukesha: Women's Bible Study
DESCRIPTION:Bible study held every Thursday starting at 10:30am. All women welcome!
URL:https://jamesplacewi.org/event/james-place-waukesha-womens-bible-study-6/
LOCATION:James Place – Waukesha\, 129 W. Broadway\, Waukesha\, WI\, 53186\, United States
CATEGORIES:Bible Study,Waukesha
END:VEVENT
BEGIN:VEVENT
DTSTART;TZID=UTC:20260507T110000
DTEND;TZID=UTC:20260507T120000
DTSTAMP:20260423T221646
CREATED:20260420T162242Z
LAST-MODIFIED:20260420T162242Z
UID:3490-1778151600-1778155200@jamesplacewi.org
SUMMARY:James Place Waukesha: Prayer and Presence
DESCRIPTION:
URL:https://jamesplacewi.org/event/james-place-waukesha-prayer-and-presence-6/
LOCATION:James Place – Waukesha\, 129 W. Broadway\, Waukesha\, WI\, 53186\, United States
CATEGORIES:Prayer & Presence,Waukesha
END:VEVENT
END:VCALENDAR