BEGIN:VCALENDAR
VERSION:2.0
PRODID:-//jamesplacewi.org - ECPv6.15.20//NONSGML v1.0//EN
CALSCALE:GREGORIAN
METHOD:PUBLISH
X-WR-CALNAME:jamesplacewi.org
X-ORIGINAL-URL:https://jamesplacewi.org
X-WR-CALDESC:Events for jamesplacewi.org
REFRESH-INTERVAL;VALUE=DURATION:PT1H
X-Robots-Tag:noindex
X-PUBLISHED-TTL:PT1H
BEGIN:VTIMEZONE
TZID:UTC
BEGIN:STANDARD
TZOFFSETFROM:+0000
TZOFFSETTO:+0000
TZNAME:UTC
DTSTART:20250101T000000
END:STANDARD
END:VTIMEZONE
BEGIN:VEVENT
DTSTART;TZID=UTC:20260512T091500
DTEND;TZID=UTC:20260512T103000
DTSTAMP:20260423T163135
CREATED:20260420T162907Z
LAST-MODIFIED:20260420T162907Z
UID:3520-1778577300-1778581800@jamesplacewi.org
SUMMARY:James Place Waukesha: Men's Bible Study
DESCRIPTION:Every Tuesday starting at 9:15 am. All men welcome.
URL:https://jamesplacewi.org/event/james-place-waukesha-mens-bible-study-6/
LOCATION:James Place – Waukesha\, 129 W. Broadway\, Waukesha\, WI\, 53186\, United States
CATEGORIES:Bible Study,Waukesha
END:VEVENT
BEGIN:VEVENT
DTSTART;TZID=UTC:20260514T103000
DTEND;TZID=UTC:20260514T113000
DTSTAMP:20260423T163135
CREATED:20260420T162527Z
LAST-MODIFIED:20260420T162527Z
UID:3508-1778754600-1778758200@jamesplacewi.org
SUMMARY:James Place Waukesha: Women's Bible Study
DESCRIPTION:Bible study held every Thursday starting at 10:30am. All women welcome!
URL:https://jamesplacewi.org/event/james-place-waukesha-womens-bible-study-7/
LOCATION:James Place – Waukesha\, 129 W. Broadway\, Waukesha\, WI\, 53186\, United States
CATEGORIES:Bible Study,Waukesha
END:VEVENT
BEGIN:VEVENT
DTSTART;TZID=UTC:20260514T110000
DTEND;TZID=UTC:20260514T120000
DTSTAMP:20260423T163135
CREATED:20260420T162306Z
LAST-MODIFIED:20260420T162306Z
UID:3493-1778756400-1778760000@jamesplacewi.org
SUMMARY:James Place Waukesha: Prayer and Presence
DESCRIPTION:
URL:https://jamesplacewi.org/event/james-place-waukesha-prayer-and-presence-7/
LOCATION:James Place – Waukesha\, 129 W. Broadway\, Waukesha\, WI\, 53186\, United States
CATEGORIES:Prayer & Presence,Waukesha
END:VEVENT
BEGIN:VEVENT
DTSTART;TZID=UTC:20260518T091500
DTEND;TZID=UTC:20260518T100000
DTSTAMP:20260423T163135
CREATED:20260420T163212Z
LAST-MODIFIED:20260420T163212Z
UID:3532-1779095700-1779098400@jamesplacewi.org
SUMMARY:James Place Waukesha: Essential Jesus
DESCRIPTION:Every Monday at 9:15am. Everyone welcome.
URL:https://jamesplacewi.org/event/james-place-waukesha-essential-jesus-7/
LOCATION:James Place – Waukesha\, 129 W. Broadway\, Waukesha\, WI\, 53186\, United States
CATEGORIES:Bible Study,Waukesha
END:VEVENT
BEGIN:VEVENT
DTSTART;TZID=UTC:20260519T091500
DTEND;TZID=UTC:20260519T103000
DTSTAMP:20260423T163135
CREATED:20260420T162935Z
LAST-MODIFIED:20260420T162935Z
UID:3523-1779182100-1779186600@jamesplacewi.org
SUMMARY:James Place Waukesha: Men's Bible Study
DESCRIPTION:Every Tuesday starting at 9:15 am. All men welcome.
URL:https://jamesplacewi.org/event/james-place-waukesha-mens-bible-study-7/
LOCATION:James Place – Waukesha\, 129 W. Broadway\, Waukesha\, WI\, 53186\, United States
CATEGORIES:Bible Study,Waukesha
END:VEVENT
BEGIN:VEVENT
DTSTART;TZID=UTC:20260521T103000
DTEND;TZID=UTC:20260521T113000
DTSTAMP:20260423T163135
CREATED:20260420T162548Z
LAST-MODIFIED:20260420T162548Z
UID:3511-1779359400-1779363000@jamesplacewi.org
SUMMARY:James Place Waukesha: Women's Bible Study
DESCRIPTION:Bible study held every Thursday starting at 10:30am. All women welcome!
URL:https://jamesplacewi.org/event/james-place-waukesha-womens-bible-study-8/
LOCATION:James Place – Waukesha\, 129 W. Broadway\, Waukesha\, WI\, 53186\, United States
CATEGORIES:Bible Study,Waukesha
END:VEVENT
BEGIN:VEVENT
DTSTART;TZID=UTC:20260521T110000
DTEND;TZID=UTC:20260521T120000
DTSTAMP:20260423T163135
CREATED:20260420T162328Z
LAST-MODIFIED:20260420T162328Z
UID:3496-1779361200-1779364800@jamesplacewi.org
SUMMARY:James Place Waukesha: Prayer and Presence
DESCRIPTION:
URL:https://jamesplacewi.org/event/james-place-waukesha-prayer-and-presence-8/
LOCATION:James Place – Waukesha\, 129 W. Broadway\, Waukesha\, WI\, 53186\, United States
CATEGORIES:Prayer & Presence,Waukesha
END:VEVENT
BEGIN:VEVENT
DTSTART;TZID=UTC:20260526T091500
DTEND;TZID=UTC:20260526T103000
DTSTAMP:20260423T163135
CREATED:20260420T162959Z
LAST-MODIFIED:20260420T162959Z
UID:3526-1779786900-1779791400@jamesplacewi.org
SUMMARY:James Place Waukesha: Men's Bible Study
DESCRIPTION:Every Tuesday starting at 9:15 am. All men welcome.
URL:https://jamesplacewi.org/event/james-place-waukesha-mens-bible-study-8/
LOCATION:James Place – Waukesha\, 129 W. Broadway\, Waukesha\, WI\, 53186\, United States
CATEGORIES:Bible Study,Waukesha
END:VEVENT
BEGIN:VEVENT
DTSTART;TZID=UTC:20260528T103000
DTEND;TZID=UTC:20260528T113000
DTSTAMP:20260423T163135
CREATED:20260420T162608Z
LAST-MODIFIED:20260420T162608Z
UID:3514-1779964200-1779967800@jamesplacewi.org
SUMMARY:James Place Waukesha: Women's Bible Study
DESCRIPTION:Bible study held every Thursday starting at 10:30am. All women welcome!
URL:https://jamesplacewi.org/event/james-place-waukesha-womens-bible-study-9/
LOCATION:James Place – Waukesha\, 129 W. Broadway\, Waukesha\, WI\, 53186\, United States
CATEGORIES:Bible Study,Waukesha
END:VEVENT
BEGIN:VEVENT
DTSTART;TZID=UTC:20260528T110000
DTEND;TZID=UTC:20260528T120000
DTSTAMP:20260423T163135
CREATED:20260420T162346Z
LAST-MODIFIED:20260420T162346Z
UID:3499-1779966000-1779969600@jamesplacewi.org
SUMMARY:James Place Waukesha: Prayer and Presence
DESCRIPTION:
URL:https://jamesplacewi.org/event/james-place-waukesha-prayer-and-presence-9/
LOCATION:James Place – Waukesha\, 129 W. Broadway\, Waukesha\, WI\, 53186\, United States
CATEGORIES:Prayer & Presence,Waukesha
END:VEVENT
BEGIN:VEVENT
DTSTART;TZID=UTC:20260601T091500
DTEND;TZID=UTC:20260601T100000
DTSTAMP:20260423T163135
CREATED:20260420T163239Z
LAST-MODIFIED:20260420T163239Z
UID:3538-1780305300-1780308000@jamesplacewi.org
SUMMARY:James Place Waukesha: Essential Jesus
DESCRIPTION:Every Monday at 9:15am. Everyone welcome.
URL:https://jamesplacewi.org/event/james-place-waukesha-essential-jesus-8/
LOCATION:James Place – Waukesha\, 129 W. Broadway\, Waukesha\, WI\, 53186\, United States
CATEGORIES:Bible Study,Waukesha
END:VEVENT
END:VCALENDAR